BEGIN:VCALENDAR
VERSION:2.0
PRODID:-//CSD Kiel - ECPv6.15.13.1//NONSGML v1.0//EN
CALSCALE:GREGORIAN
METHOD:PUBLISH
X-ORIGINAL-URL:https://csd-kiel.de
X-WR-CALDESC:Veranstaltungen für CSD Kiel
REFRESH-INTERVAL;VALUE=DURATION:PT1H
X-Robots-Tag:noindex
X-PUBLISHED-TTL:PT1H
BEGIN:VTIMEZONE
TZID:UTC
BEGIN:STANDARD
TZOFFSETFROM:+0000
TZOFFSETTO:+0000
TZNAME:UTC
DTSTART:20250101T000000
END:STANDARD
END:VTIMEZONE
BEGIN:VTIMEZONE
TZID:Europe/Berlin
BEGIN:DAYLIGHT
TZOFFSETFROM:+0100
TZOFFSETTO:+0200
TZNAME:CEST
DTSTART:20250330T010000
END:DAYLIGHT
BEGIN:STANDARD
TZOFFSETFROM:+0200
TZOFFSETTO:+0100
TZNAME:CET
DTSTART:20251026T010000
END:STANDARD
BEGIN:DAYLIGHT
TZOFFSETFROM:+0100
TZOFFSETTO:+0200
TZNAME:CEST
DTSTART:20260329T010000
END:DAYLIGHT
BEGIN:STANDARD
TZOFFSETFROM:+0200
TZOFFSETTO:+0100
TZNAME:CET
DTSTART:20261025T010000
END:STANDARD
BEGIN:DAYLIGHT
TZOFFSETFROM:+0100
TZOFFSETTO:+0200
TZNAME:CEST
DTSTART:20270328T010000
END:DAYLIGHT
BEGIN:STANDARD
TZOFFSETFROM:+0200
TZOFFSETTO:+0100
TZNAME:CET
DTSTART:20271031T010000
END:STANDARD
END:VTIMEZONE
BEGIN:VEVENT
DTSTART;TZID=UTC:20260508T180000
DTEND;TZID=UTC:20260508T210000
DTSTAMP:20260424T101845
CREATED:20260115T113501Z
LAST-MODIFIED:20260115T113501Z
UID:2050-1778263200-1778274000@csd-kiel.de
SUMMARY:Queerer Brettspielabend 08.05.2026 des CSD Kiel e. V.
DESCRIPTION:Jeden zweiten Freitag im Monat bist Du herzlich eingeladen zum queere Brettspielabend.\nOrt: HAKI e. V.\, Walkerdamm 17 in Kiel\nBeginn: 18:00 Uhr \nWir bringen immer eine Auswahl an Spielen mit – gerne kannst Du zusätzlich auch etwas mitbringen. Getränke können in der HAKI gekauft werden und über Knabbersachen freuen wir uns immer. Komm gerne vorbei\, wir freuen uns auf Dich.
URL:https://csd-kiel.de/veranstaltungen/queerer-brettspielabend-08-05-2026-des-csd-kiel-e-v/
LOCATION:HAKI e. V.\, Walkerdamm 17\, Kiel\, Schleswig-Holstein\, 24103\, Germany
CATEGORIES:Brettspielabende
ATTACH;FMTTYPE=image/png:https://csd-kiel.de/wp-content/uploads/2024/12/brettspielgruppe.png
ORGANIZER;CN="CSD Kiel e. V.":MAILTO:info@csd-kiel.de
END:VEVENT
BEGIN:VEVENT
DTSTART;TZID=Europe/Berlin:20260510T004500
DTEND;TZID=Europe/Berlin:20260510T020000
DTSTAMP:20260424T101845
CREATED:20251109T114121Z
LAST-MODIFIED:20260414T145640Z
UID:1982-1778373900-1778378400@csd-kiel.de
SUMMARY:Dragwalk - 10.05.2026 des CSD Kiel e. V.
DESCRIPTION:Drag is not a crime. Drag isn’t going anywhere – join the Dragwalk! 👠\nHast du schon dein Drag-Outfit rausgesucht? Nein? Dann aber ran an die Federn\, Pailletten und Perücken! 💄✨ \nAm Sonntag\, den 10. Mai 2026\, heißt es wieder: Runter vom Runway – rauf auf die Straße! Denn anlässlich des IDAHOBIT (17.05.) findet erneut unser Dragwalk statt. \n🌈 Start: 12:45 Uhr | Wo: Platz der Matrosen (Hauptbahnhof Kiel)\n📌 Zwischenstopp: Landtag – dort gibt’s eine kurze Rede\n🎯 Ziel: ca. 14:00 Uhr auf der Reventlouwiese an der Kiellinie \nIm Anschluss laden wir euch herzlich zum Regenbogen Picknick ein – bringt Freund:innen\, Decken und gute Vibes mit! Nähere Infos folgen hier und auf www.csd-kiel.de 🏳️‍🌈🏳️‍⚧️ \nQueerfeindlichkeit ist leider immer noch real – in Kiel\, Deutschland und weltweit. Mit unserem Dragwalk setzen wir ein lautstarkes Zeichen gegen Homo-\, Bi-\, Inter- und Transphobie. Wir zeigen: Kiel ist laut\, bunt und solidarisch! Denn: Jeder Mensch hat das Recht\, so zu sein\, wie mensch sein will – ohne Kompromisse! 🧡 \n~ We’re all born naked and the rest is drag ~
URL:https://csd-kiel.de/veranstaltungen/dragwalk-10-05-2026-des-csd-kiel-e-v/
LOCATION:Kiel\, Kiel\, Schleswig-Holstein\, 24114\, Germany
CATEGORIES:Events
ATTACH;FMTTYPE=image/png:https://csd-kiel.de/wp-content/uploads/2026/04/Dragwalk-2026.png
ORGANIZER;CN="CSD Kiel e. V.":MAILTO:info@csd-kiel.de
END:VEVENT
BEGIN:VEVENT
DTSTART;TZID=Europe/Berlin:20260510T020000
DTEND;TZID=Europe/Berlin:20260510T050000
DTSTAMP:20260424T101845
CREATED:20251109T114444Z
LAST-MODIFIED:20260414T145736Z
UID:1984-1778378400-1778389200@csd-kiel.de
SUMMARY:Regenbogenpicknick - 10.05.2026 des CSD Kiel e. V.
DESCRIPTION:Picknick\, Pride\, Kampf um die Krone & gute Vibes – das Regenbogen Picknick steht an! ☀️🧺\nAm Sonntag\, den 10. Mai 2026 laden wir euch ab 14:00 Uhr ganz herzlich zum Regenbogen Picknick auf der Reventlouwiese an der Kiellinie ein. Egal\, ob mit Familie\, Freund:innen oder ganz für dich – alle Menschen sind willkommen\, mit uns einen bunten\, entspannten Nachmittag zu verbringen. \n🎶 Euch erwartet gemütliche Musik\, gute Gespräche und queere Community-Vibes\n👑  Erstmaliger Contest um Ruhm und Ehre: die Draglympics (mit Disziplinen wie dem Handtaschenweitwurf und weiteren)\n🎨 Für Kinder (und Junggebliebene) gibt’s Glitzertattoos\, Bändchen-basteln und weitere Aktionen\n📚 Vor Ort: Infostände vom CSD Kiel e. V.\, Trans SH e. V. und Puppies & Friends SH \nWichtig:\n🧺 Bringt euch bitte eine Picknickdecke\, euer Lieblingsessen und alles mit\, was ihr für einen chilligen Nachmittag braucht.\n🧁 Gegen Spende bekommt ihr bei uns Kuchen & Getränke – aber denkt bitte auch an eigene Teller\, Becher oder Tassen.\n🌞 Denkt an Sonnenschutz wie Sonnencreme\, Schirm oder Strandmuschel. \nFrühstart gefällig? 👠\nDann schmeiß dich in dein Drag-Outfit und sei um 12:45 Uhr beim Dragwalk dabei – Treffpunkt ist der Platz der Matrosen (Hauptbahnhof Kiel). Der Walk führt direkt zum Picknick – also perfekt\, um mit Style aufzutauchen! \nWir freuen uns riesig auf euch und hoffen auf Sonnenschein\, bunte Decken & viele strahlende Gesichter! ❤️🧡💛💚💙💜
URL:https://csd-kiel.de/veranstaltungen/regenbogenpicknick-10-05-2026-des-csd-kiel-e-v/
LOCATION:Kiel\, Kiel\, Schleswig-Holstein\, 24114\, Germany
CATEGORIES:Events
ATTACH;FMTTYPE=image/png:https://csd-kiel.de/wp-content/uploads/2026/04/Picknick-2026.png
ORGANIZER;CN="CSD Kiel e. V.":MAILTO:info@csd-kiel.de
END:VEVENT
END:VCALENDAR