BEGIN:VCALENDAR
VERSION:2.0
PRODID:-//CSD Kiel - ECPv6.15.13.1//NONSGML v1.0//EN
CALSCALE:GREGORIAN
METHOD:PUBLISH
X-WR-CALNAME:CSD Kiel
X-ORIGINAL-URL:https://csd-kiel.de
X-WR-CALDESC:Veranstaltungen für CSD Kiel
REFRESH-INTERVAL;VALUE=DURATION:PT1H
X-Robots-Tag:noindex
X-PUBLISHED-TTL:PT1H
BEGIN:VTIMEZONE
TZID:UTC
BEGIN:STANDARD
TZOFFSETFROM:+0000
TZOFFSETTO:+0000
TZNAME:UTC
DTSTART:20240101T000000
END:STANDARD
END:VTIMEZONE
BEGIN:VEVENT
DTSTART;TZID=UTC:20250410T180000
DTEND;TZID=UTC:20250410T200000
DTSTAMP:20260420T140033
CREATED:20241215T194415Z
LAST-MODIFIED:20241215T204233Z
UID:301-1744308000-1744315200@csd-kiel.de
SUMMARY:Planungstreffen 10.04.2025 des CSD Kiel e. V.
DESCRIPTION:Du möchtest dich für die Community aktiv einbringen\, hast Lust uns kennenzulernen und mit uns zusammen den nächsten CSD und weitere Aktionen 2025 zu planen? \nWir treffen uns jeden zweiten Donnerstag im Monat um 18 Uhr in den Räumen der HAKI e. V. – komm vorbei. \nNur wenn wir etwas tun\, können wir auch etwas verändern! Wir heißen jede Person herzlich willkommen\, die uns helfen möchte\, in der laufenden Saison für die queere Community in Kiel langfristig etwas zu verbessern. Die HAKI im Walkerdamm 17 ist auch barrierefrei zugänglich. \nDu brauchst nichts außer Mut\, Ideen und etwas Zeit. Der CSD Kiel e. V. benötigt Humanpower\, um weiter für unsere Rechte einstehen und kämpfen zu können. Bist du dabei? Schreibe uns gerne via Social Media oder info[at]csd-kiel.de eine Nachricht\, wenn du Interesse und/oder Fragen hast. Oder komm einfach so vorbei und schnupper rein.
URL:https://csd-kiel.de/veranstaltungen/planungstreffen-10-04-2025-des-csd-kiel-e-v/
LOCATION:HAKI e. V.\, Walkerdamm 17\, Kiel\, Schleswig-Holstein\, 24103\, Germany
CATEGORIES:Planungstermine
ATTACH;FMTTYPE=image/png:https://csd-kiel.de/wp-content/uploads/2024/12/Planungstreffen.png
ORGANIZER;CN="CSD Kiel e. V.":MAILTO:info@csd-kiel.de
END:VEVENT
BEGIN:VEVENT
DTSTART;TZID=UTC:20250411T180000
DTEND;TZID=UTC:20250411T220000
DTSTAMP:20260420T140033
CREATED:20241215T201549Z
LAST-MODIFIED:20250103T101732Z
UID:327-1744394400-1744408800@csd-kiel.de
SUMMARY:Queerer Brettspielabend 11.04.2025 des CSD Kiel e. V.
DESCRIPTION:Jeden zweiten Freitag im Monat bist Du herzlich eingeladen zum queere Brettspielabend.\nOrt: HAKI e. V.\, Walkerdamm 17 in Kiel\nBeginn: 18:00 Uhr \nWir bringen immer eine Auswahl an Spielen mit – gerne kannst Du zusätzlich auch etwas mitbringen. Getränke können in der HAKI gekauft werden und über Knabbersachen freuen wir uns immer. Komm gerne vorbei\, wir freuen uns auf Dich.
URL:https://csd-kiel.de/veranstaltungen/queerer-brettspielabend-11-04-2025-des-csd-kiel-e-v/
LOCATION:HAKI e. V.\, Walkerdamm 17\, Kiel\, Schleswig-Holstein\, 24103\, Germany
CATEGORIES:Brettspielabende
ATTACH;FMTTYPE=image/png:https://csd-kiel.de/wp-content/uploads/2024/12/brettspielgruppe.png
ORGANIZER;CN="CSD Kiel e. V.":MAILTO:info@csd-kiel.de
END:VEVENT
END:VCALENDAR