BEGIN:VCALENDAR
VERSION:2.0
PRODID:-//CSD Kiel - ECPv6.15.13.1//NONSGML v1.0//EN
CALSCALE:GREGORIAN
METHOD:PUBLISH
X-ORIGINAL-URL:https://csd-kiel.de
X-WR-CALDESC:Veranstaltungen für CSD Kiel
REFRESH-INTERVAL;VALUE=DURATION:PT1H
X-Robots-Tag:noindex
X-PUBLISHED-TTL:PT1H
BEGIN:VTIMEZONE
TZID:UTC
BEGIN:STANDARD
TZOFFSETFROM:+0000
TZOFFSETTO:+0000
TZNAME:UTC
DTSTART:20240101T000000
END:STANDARD
END:VTIMEZONE
BEGIN:VEVENT
DTSTART;TZID=UTC:20250213T180000
DTEND;TZID=UTC:20250213T200000
DTSTAMP:20260420T162941
CREATED:20241215T193928Z
LAST-MODIFIED:20241215T204344Z
UID:294-1739469600-1739476800@csd-kiel.de
SUMMARY:Planungstreffen 13.02.2025 des CSD Kiel e. V.
DESCRIPTION:Du möchtest dich für die Community aktiv einbringen\, hast Lust uns kennenzulernen und mit uns zusammen den nächsten CSD und weitere Aktionen 2025 zu planen? \nWir treffen uns jeden zweiten Donnerstag im Monat um 18 Uhr in den Räumen der HAKI e. V. – komm vorbei. \nNur wenn wir etwas tun\, können wir auch etwas verändern! Wir heißen jede Person herzlich willkommen\, die uns helfen möchte\, in der laufenden Saison für die queere Community in Kiel langfristig etwas zu verbessern. Die HAKI im Walkerdamm 17 ist auch barrierefrei zugänglich. \nDu brauchst nichts außer Mut\, Ideen und etwas Zeit. Der CSD Kiel e. V. benötigt Humanpower\, um weiter für unsere Rechte einstehen und kämpfen zu können. Bist du dabei? Schreibe uns gerne via Social Media oder info[at]csd-kiel.de eine Nachricht\, wenn du Interesse und/oder Fragen hast. Oder komm einfach so vorbei und schnupper rein.
URL:https://csd-kiel.de/veranstaltungen/planungstreffen-13-02-2025-des-csd-kiel-e-v/
LOCATION:HAKI e. V.\, Walkerdamm 17\, Kiel\, Schleswig-Holstein\, 24103\, Germany
CATEGORIES:Planungstermine
ATTACH;FMTTYPE=image/png:https://csd-kiel.de/wp-content/uploads/2024/12/Planungstreffen.png
ORGANIZER;CN="CSD Kiel e. V.":MAILTO:info@csd-kiel.de
END:VEVENT
BEGIN:VEVENT
DTSTART;TZID=UTC:20250214T180000
DTEND;TZID=UTC:20250214T220000
DTSTAMP:20260420T162941
CREATED:20241215T201315Z
LAST-MODIFIED:20250103T101804Z
UID:323-1739556000-1739570400@csd-kiel.de
SUMMARY:Queerer Brettspielabend 14.02.2025 des CSD Kiel e. V.
DESCRIPTION:Jeden zweiten Freitag im Monat bist Du herzlich eingeladen zum queere Brettspielabend.\nOrt: HAKI e. V.\, Walkerdamm 17 in Kiel\nBeginn: 18:00 Uhr \nWir bringen immer eine Auswahl an Spielen mit – gerne kannst Du zusätzlich auch etwas mitbringen. Getränke können in der HAKI gekauft werden und über Knabbersachen freuen wir uns immer. Komm gerne vorbei\, wir freuen uns auf Dich.
URL:https://csd-kiel.de/veranstaltungen/queerer-brettspielabend-14-02-2025-des-csd-kiel-e-v/
LOCATION:HAKI e. V.\, Walkerdamm 17\, Kiel\, Schleswig-Holstein\, 24103\, Germany
CATEGORIES:Brettspielabende
ATTACH;FMTTYPE=image/png:https://csd-kiel.de/wp-content/uploads/2024/12/brettspielgruppe.png
ORGANIZER;CN="CSD Kiel e. V.":MAILTO:info@csd-kiel.de
END:VEVENT
BEGIN:VEVENT
DTSTART;TZID=UTC:20250215T115500
DTEND;TZID=UTC:20250215T140000
DTSTAMP:20260420T162941
CREATED:20250110T094813Z
LAST-MODIFIED:20250110T110106Z
UID:518-1739620500-1739628000@csd-kiel.de
SUMMARY:Demonstration des CSD Kiel e. V. - "WÄHL LIEBE" zum bundesweiten Aktionstag
DESCRIPTION:„Wähl Liebe“ ist eine bundesweite Kampagne der CSD Bewegung.  \nAuch der CSD Kiel e. V. ruft am Aktionstag zu einer Demonstration „5 vor 12“ auf. \n15.02.2025 – 11:55 Uhr \nStart: Rathausplatz Kiel / Ende: Landtag/Reventlouwiese \nKreuze setzen statt Grenzen! „Wähl Liebe” hat zum Ziel zur Teilnahme der Bundestagswahl am 23.02.2025 aufzurufen.\nWir möchten (Nicht-)Wähler:innen für die Rechte der queeren Community sensibilisieren und dafür gewinnen\, bei der Wahl am 23. Februar 2025\, demokratische Parteien zu wählen\, die für Vielfalt\, Toleranz und Gleichberechtigung eintreten. \nZu den Forderungen an die künftige Bundesregierung gehört u. a.\n✔️ die Aufnahme queerer Menschen ins Grundgesetz\,\n✔️ die finanzielle Absicherung queerer Projekte und\n✔️ ein besserer Schutz vor Hasskriminalität und Hatespeech. \nBitte:\n🔴 achte darauf\, deinen Müll ordnungsgemäß zu entsorgen\n🟠 respektiere andere Teilnehmende\n🟡 beachte bitte die Anweisungen der Ordner:innen und des Orga-Teams\n🟢 achte auf dich und deine Gruppe\, kommt sicher nach Hause\n🔵 kenne dein Limit\n🟣 denk an Trinkwasser und ggf. Regenschutz \n____ \nFür diese Demonstration benötigen wir wieder Humanpower und suchen daher Ordner:innen.\nWerde Teil und begleite die farbenfrohe Demo von Start bis zum Schluss.\nTreffpunkt ist der Rathausplatz etwa eine halbe Stunde vor Demo-Start. Bringe möglichst ein Headset\, Kopfhörer oder ähnliche Mittel mit. Ansonsten gibt es keine Voraussetzungen\, weitere Informationen erhältst du noch. Melde dich bei Interesse jetzt per Mail an ordner_innen[at]csd-kiel.de\, wir freuen uns auf dich!
URL:https://csd-kiel.de/veranstaltungen/demonstration-des-csd-kiel-e-v-waehl-liebe-zum-bundesweiten-aktionstag/
LOCATION:Kieler Rathausplatz\, Fleethörn 9\, Kiel\, Schleswig-Holstein\, 24103\, Germany
CATEGORIES:Events
ATTACH;FMTTYPE=image/png:https://csd-kiel.de/wp-content/uploads/2025/01/Header-Demo-Waehl-Liebe.png
ORGANIZER;CN="CSD Kiel e. V.":MAILTO:info@csd-kiel.de
END:VEVENT
END:VCALENDAR